BEGIN:VCALENDAR
VERSION:2.0
PRODID:-//Freiw. Feuerwehr Stadt Gefrees - ECPv6.15.20//NONSGML v1.0//EN
CALSCALE:GREGORIAN
METHOD:PUBLISH
X-WR-CALNAME:Freiw. Feuerwehr Stadt Gefrees
X-ORIGINAL-URL:https://feuerwehr-gefrees.de
X-WR-CALDESC:Veranstaltungen für Freiw. Feuerwehr Stadt Gefrees
REFRESH-INTERVAL;VALUE=DURATION:PT1H
X-Robots-Tag:noindex
X-PUBLISHED-TTL:PT1H
BEGIN:VTIMEZONE
TZID:Europe/Berlin
BEGIN:DAYLIGHT
TZOFFSETFROM:+0100
TZOFFSETTO:+0200
TZNAME:CEST
DTSTART:20250330T010000
END:DAYLIGHT
BEGIN:STANDARD
TZOFFSETFROM:+0200
TZOFFSETTO:+0100
TZNAME:CET
DTSTART:20251026T010000
END:STANDARD
BEGIN:DAYLIGHT
TZOFFSETFROM:+0100
TZOFFSETTO:+0200
TZNAME:CEST
DTSTART:20260329T010000
END:DAYLIGHT
BEGIN:STANDARD
TZOFFSETFROM:+0200
TZOFFSETTO:+0100
TZNAME:CET
DTSTART:20261025T010000
END:STANDARD
BEGIN:DAYLIGHT
TZOFFSETFROM:+0100
TZOFFSETTO:+0200
TZNAME:CEST
DTSTART:20270328T010000
END:DAYLIGHT
BEGIN:STANDARD
TZOFFSETFROM:+0200
TZOFFSETTO:+0100
TZNAME:CET
DTSTART:20271031T010000
END:STANDARD
END:VTIMEZONE
BEGIN:VEVENT
DTSTART;TZID=Europe/Berlin:20260505T190000
DTEND;TZID=Europe/Berlin:20260505T210000
DTSTAMP:20260421T112824
CREATED:20260321T193107Z
LAST-MODIFIED:20260321T193107Z
UID:14850-1778007600-1778014800@feuerwehr-gefrees.de
SUMMARY:Übung LP-Wasser
DESCRIPTION:Übung LP-Wasser \nfür alle Teilnehmenden
URL:https://feuerwehr-gefrees.de/event/uebung-lp-wasser/
END:VEVENT
BEGIN:VEVENT
DTSTART;TZID=Europe/Berlin:20260506T190000
DTEND;TZID=Europe/Berlin:20260506T210000
DTSTAMP:20260421T112824
CREATED:20260124T080907Z
LAST-MODIFIED:20260128T132444Z
UID:14008-1778094000-1778101200@feuerwehr-gefrees.de
SUMMARY:Übung - Aktive
DESCRIPTION:Übung – Aktive \nLöschgruppen 1 & 3
URL:https://feuerwehr-gefrees.de/event/uebung-aktive-8/
END:VEVENT
BEGIN:VEVENT
DTSTART;TZID=Europe/Berlin:20260509T140000
DTEND;TZID=Europe/Berlin:20260509T153000
DTSTAMP:20260421T112824
CREATED:20260124T082342Z
LAST-MODIFIED:20260124T082342Z
UID:14043-1778335200-1778340600@feuerwehr-gefrees.de
SUMMARY:Übung - Kinderfeuerwehr
DESCRIPTION:Übung – Kinderfeuerwehr
URL:https://feuerwehr-gefrees.de/event/uebung-kinderfeuerwehr-4/
END:VEVENT
BEGIN:VEVENT
DTSTART;TZID=Europe/Berlin:20260512T180000
DTEND;TZID=Europe/Berlin:20260512T193000
DTSTAMP:20260421T112824
CREATED:20260131T074428Z
LAST-MODIFIED:20260131T080546Z
UID:14176-1778608800-1778614200@feuerwehr-gefrees.de
SUMMARY:Übung - Jugendfeuerwehr
DESCRIPTION:Übung – Jugendfeuerwehr
URL:https://feuerwehr-gefrees.de/event/uebung-jugendfeuerwehr-6/
END:VEVENT
BEGIN:VEVENT
DTSTART;TZID=Europe/Berlin:20260513T190000
DTEND;TZID=Europe/Berlin:20260513T210000
DTSTAMP:20260421T112824
CREATED:20260124T081014Z
LAST-MODIFIED:20260128T132428Z
UID:14011-1778698800-1778706000@feuerwehr-gefrees.de
SUMMARY:Übung - Aktive
DESCRIPTION:Übung – Aktive  \nLöschgruppen 2 & 4
URL:https://feuerwehr-gefrees.de/event/uebung-aktive-9/
END:VEVENT
END:VCALENDAR