BEGIN:VCALENDAR
VERSION:2.0
PRODID:-//Freiw. Feuerwehr Stadt Gefrees - ECPv6.15.20//NONSGML v1.0//EN
CALSCALE:GREGORIAN
METHOD:PUBLISH
X-WR-CALNAME:Freiw. Feuerwehr Stadt Gefrees
X-ORIGINAL-URL:https://feuerwehr-gefrees.de
X-WR-CALDESC:Veranstaltungen für Freiw. Feuerwehr Stadt Gefrees
REFRESH-INTERVAL;VALUE=DURATION:PT1H
X-Robots-Tag:noindex
X-PUBLISHED-TTL:PT1H
BEGIN:VTIMEZONE
TZID:Europe/Berlin
BEGIN:DAYLIGHT
TZOFFSETFROM:+0100
TZOFFSETTO:+0200
TZNAME:CEST
DTSTART:20250330T010000
END:DAYLIGHT
BEGIN:STANDARD
TZOFFSETFROM:+0200
TZOFFSETTO:+0100
TZNAME:CET
DTSTART:20251026T010000
END:STANDARD
BEGIN:DAYLIGHT
TZOFFSETFROM:+0100
TZOFFSETTO:+0200
TZNAME:CEST
DTSTART:20260329T010000
END:DAYLIGHT
BEGIN:STANDARD
TZOFFSETFROM:+0200
TZOFFSETTO:+0100
TZNAME:CET
DTSTART:20261025T010000
END:STANDARD
BEGIN:DAYLIGHT
TZOFFSETFROM:+0100
TZOFFSETTO:+0200
TZNAME:CEST
DTSTART:20270328T010000
END:DAYLIGHT
BEGIN:STANDARD
TZOFFSETFROM:+0200
TZOFFSETTO:+0100
TZNAME:CET
DTSTART:20271031T010000
END:STANDARD
END:VTIMEZONE
BEGIN:VEVENT
DTSTART;VALUE=DATE:20260619
DTEND;VALUE=DATE:20260620
DTSTAMP:20260419T150812
CREATED:20260128T132744Z
LAST-MODIFIED:20260128T132744Z
UID:14148-1781827200-1781913599@feuerwehr-gefrees.de
SUMMARY:Leistungsprüfung Wasser
DESCRIPTION:Leistungsprüfung Wasser \nalle Teilnehmer
URL:https://feuerwehr-gefrees.de/event/leistungspruefung-wasser/
END:VEVENT
BEGIN:VEVENT
DTSTART;VALUE=DATE:20260704
DTEND;VALUE=DATE:20260705
DTSTAMP:20260419T150812
CREATED:20260124T083157Z
LAST-MODIFIED:20260211T215555Z
UID:14052-1783123200-1783209599@feuerwehr-gefrees.de
SUMMARY:Abnahme Kinderflamme
DESCRIPTION:Abnahme Kinderflamme in Gefrees der Kinderfeuerwehren Inspektion I \n10 Jahre die Wasserdrachen Gefrees \n2016 – 2026
URL:https://feuerwehr-gefrees.de/event/kinderflamme/
END:VEVENT
BEGIN:VEVENT
DTSTART;TZID=Europe/Berlin:20260705T080000
DTEND;TZID=Europe/Berlin:20260705T160000
DTSTAMP:20260419T150812
CREATED:20260125T124341Z
LAST-MODIFIED:20260125T124341Z
UID:14067-1783238400-1783267200@feuerwehr-gefrees.de
SUMMARY:Großübung - Waldbrand
DESCRIPTION:Großübung – Waldbrand
URL:https://feuerwehr-gefrees.de/event/grossuebung-waldbrand/
END:VEVENT
BEGIN:VEVENT
DTSTART;TZID=Europe/Berlin:20260710T213000
DTEND;TZID=Europe/Berlin:20260710T230000
DTSTAMP:20260419T150812
CREATED:20260124T081206Z
LAST-MODIFIED:20260128T133148Z
UID:14014-1783719000-1783724400@feuerwehr-gefrees.de
SUMMARY:Sicherheitswache Wiesenfest-Feuerwerk 2026
DESCRIPTION:Sicherheitswache Wiesenfest-Feuerwerk 2026 \nLöschgruppen 1 & 3
URL:https://feuerwehr-gefrees.de/event/sicherheitswache-wiesenfest/
END:VEVENT
BEGIN:VEVENT
DTSTART;TZID=Europe/Berlin:20260712T123000
DTEND;TZID=Europe/Berlin:20260712T133000
DTSTAMP:20260419T150812
CREATED:20260124T082727Z
LAST-MODIFIED:20260128T133104Z
UID:14048-1783859400-1783863000@feuerwehr-gefrees.de
SUMMARY:Wiesenfestumzug 2026
DESCRIPTION:Teilnahme am Wiesenfestumzug
URL:https://feuerwehr-gefrees.de/event/wiesenfestumzug/
END:VEVENT
BEGIN:VEVENT
DTSTART;TZID=Europe/Berlin:20260713T080000
DTEND;TZID=Europe/Berlin:20260713T110000
DTSTAMP:20260419T150812
CREATED:20260124T081318Z
LAST-MODIFIED:20260128T133153Z
UID:14018-1783929600-1783940400@feuerwehr-gefrees.de
SUMMARY:Sicherheitswache Wiesenfest 2026
DESCRIPTION:Sicherheitswache Wiesenfest 2026 \nLöschgruppen 2 & 4
URL:https://feuerwehr-gefrees.de/event/sicherheitswache-wiesenfest-2/
END:VEVENT
BEGIN:VEVENT
DTSTART;TZID=Europe/Berlin:20260713T123000
DTEND;TZID=Europe/Berlin:20260713T133000
DTSTAMP:20260419T150812
CREATED:20260124T083938Z
LAST-MODIFIED:20260128T133108Z
UID:14056-1783945800-1783949400@feuerwehr-gefrees.de
SUMMARY:Wiesenfestumzug 2026
DESCRIPTION:Wiesenfestumzug
URL:https://feuerwehr-gefrees.de/event/wiesenfestumzug-2/
END:VEVENT
BEGIN:VEVENT
DTSTART;TZID=Europe/Berlin:20260729T190000
DTEND;TZID=Europe/Berlin:20260729T210000
DTSTAMP:20260419T150812
CREATED:20260124T081429Z
LAST-MODIFIED:20260128T132357Z
UID:14021-1785351600-1785358800@feuerwehr-gefrees.de
SUMMARY:Übung - Aktive
DESCRIPTION:Übung – Aktive \nLöschgruppen 1 & 2
URL:https://feuerwehr-gefrees.de/event/uebung-aktive-10/
END:VEVENT
BEGIN:VEVENT
DTSTART;TZID=Europe/Berlin:20260805T190000
DTEND;TZID=Europe/Berlin:20260805T210000
DTSTAMP:20260419T150812
CREATED:20260124T081526Z
LAST-MODIFIED:20260128T132335Z
UID:14024-1785956400-1785963600@feuerwehr-gefrees.de
SUMMARY:Übung - Aktive
DESCRIPTION:Übung – Aktive \nLöschgruppen 3 & 4
URL:https://feuerwehr-gefrees.de/event/uebung-aktive-11/
END:VEVENT
BEGIN:VEVENT
DTSTART;TZID=Europe/Berlin:20260920T090000
DTEND;TZID=Europe/Berlin:20260920T110000
DTSTAMP:20260419T150812
CREATED:20260124T081623Z
LAST-MODIFIED:20260124T081623Z
UID:14027-1789894800-1789902000@feuerwehr-gefrees.de
SUMMARY:Übung - Aktive
DESCRIPTION:Übung – Aktive
URL:https://feuerwehr-gefrees.de/event/uebung-aktive-12/
END:VEVENT
BEGIN:VEVENT
DTSTART;TZID=Europe/Berlin:20261010T140000
DTEND;TZID=Europe/Berlin:20261010T153000
DTSTAMP:20260419T150812
CREATED:20260124T082833Z
LAST-MODIFIED:20260124T082833Z
UID:14050-1791640800-1791646200@feuerwehr-gefrees.de
SUMMARY:Übung - Kinderfeuerwehr
DESCRIPTION:Übung – Kinderfeuerwehr 
URL:https://feuerwehr-gefrees.de/event/uebung-kinderfeuerwehr-6/
END:VEVENT
BEGIN:VEVENT
DTSTART;TZID=Europe/Berlin:20261018T090000
DTEND;TZID=Europe/Berlin:20261018T110000
DTSTAMP:20260419T150812
CREATED:20260124T081720Z
LAST-MODIFIED:20260128T132304Z
UID:14030-1792314000-1792321200@feuerwehr-gefrees.de
SUMMARY:Übung - Aktive
DESCRIPTION:Übung – Aktive
URL:https://feuerwehr-gefrees.de/event/uebung-aktive-13/
END:VEVENT
BEGIN:VEVENT
DTSTART;TZID=Europe/Berlin:20261021T190000
DTEND;TZID=Europe/Berlin:20261021T210000
DTSTAMP:20260419T150812
CREATED:20260124T081803Z
LAST-MODIFIED:20260128T132212Z
UID:14033-1792609200-1792616400@feuerwehr-gefrees.de
SUMMARY:Übung - Maschinisten
DESCRIPTION:Übung – Maschinisten
URL:https://feuerwehr-gefrees.de/event/uebung-aktive-14/
END:VEVENT
BEGIN:VEVENT
DTSTART;VALUE=DATE:20261115
DTEND;VALUE=DATE:20261116
DTSTAMP:20260419T150812
CREATED:20260124T084040Z
LAST-MODIFIED:20260128T132606Z
UID:14058-1794700800-1794787199@feuerwehr-gefrees.de
SUMMARY:Kirchgang & Volkstrauertag
DESCRIPTION:Teilnahme am Volkstrauertag mit Kirchgang
URL:https://feuerwehr-gefrees.de/event/volkstrauertag/
END:VEVENT
BEGIN:VEVENT
DTSTART;TZID=Europe/Berlin:20261128T090000
DTEND;TZID=Europe/Berlin:20261128T113000
DTSTAMP:20260419T150812
CREATED:20260128T133510Z
LAST-MODIFIED:20260128T133510Z
UID:14157-1795856400-1795865400@feuerwehr-gefrees.de
SUMMARY:Aufbau Weihnachtsmarkt
DESCRIPTION:Aufbau Weihnachtsmarkt
URL:https://feuerwehr-gefrees.de/event/aufbau-weihnachtsmarkt/
END:VEVENT
BEGIN:VEVENT
DTSTART;VALUE=DATE:20261129
DTEND;VALUE=DATE:20261130
DTSTAMP:20260419T150812
CREATED:20260128T133428Z
LAST-MODIFIED:20260128T133428Z
UID:14155-1795910400-1795996799@feuerwehr-gefrees.de
SUMMARY:Teilnahme Weihnachtsmarkt 2026 Gefrees
DESCRIPTION:Teilnahme Weihnachtsmarkt 2026 Gefrees
URL:https://feuerwehr-gefrees.de/event/teilnahme-weihnachtsmarkt-2026-gefrees/
END:VEVENT
END:VCALENDAR