BEGIN:VCALENDAR
VERSION:2.0
PRODID:-//Freiw. Feuerwehr Stadt Gefrees - ECPv6.15.20//NONSGML v1.0//EN
CALSCALE:GREGORIAN
METHOD:PUBLISH
X-ORIGINAL-URL:https://feuerwehr-gefrees.de
X-WR-CALDESC:Veranstaltungen für Freiw. Feuerwehr Stadt Gefrees
REFRESH-INTERVAL;VALUE=DURATION:PT1H
X-Robots-Tag:noindex
X-PUBLISHED-TTL:PT1H
BEGIN:VTIMEZONE
TZID:Europe/Berlin
BEGIN:DAYLIGHT
TZOFFSETFROM:+0100
TZOFFSETTO:+0200
TZNAME:CEST
DTSTART:20250330T010000
END:DAYLIGHT
BEGIN:STANDARD
TZOFFSETFROM:+0200
TZOFFSETTO:+0100
TZNAME:CET
DTSTART:20251026T010000
END:STANDARD
BEGIN:DAYLIGHT
TZOFFSETFROM:+0100
TZOFFSETTO:+0200
TZNAME:CEST
DTSTART:20260329T010000
END:DAYLIGHT
BEGIN:STANDARD
TZOFFSETFROM:+0200
TZOFFSETTO:+0100
TZNAME:CET
DTSTART:20261025T010000
END:STANDARD
BEGIN:DAYLIGHT
TZOFFSETFROM:+0100
TZOFFSETTO:+0200
TZNAME:CEST
DTSTART:20270328T010000
END:DAYLIGHT
BEGIN:STANDARD
TZOFFSETFROM:+0200
TZOFFSETTO:+0100
TZNAME:CET
DTSTART:20271031T010000
END:STANDARD
END:VTIMEZONE
BEGIN:VEVENT
DTSTART;TZID=Europe/Berlin:20260710T213000
DTEND;TZID=Europe/Berlin:20260710T230000
DTSTAMP:20260421T160033
CREATED:20260124T081206Z
LAST-MODIFIED:20260128T133148Z
UID:14014-1783719000-1783724400@feuerwehr-gefrees.de
SUMMARY:Sicherheitswache Wiesenfest-Feuerwerk 2026
DESCRIPTION:Sicherheitswache Wiesenfest-Feuerwerk 2026 \nLöschgruppen 1 & 3
URL:https://feuerwehr-gefrees.de/event/sicherheitswache-wiesenfest/
END:VEVENT
END:VCALENDAR